BEGIN:VCALENDAR
VERSION:2.0
PRODID:-//IDML - ECPv6.15.20//NONSGML v1.0//EN
CALSCALE:GREGORIAN
METHOD:PUBLISH
X-ORIGINAL-URL:https://idml.torinosusa.it
X-WR-CALDESC:Eventi per IDML
REFRESH-INTERVAL;VALUE=DURATION:PT1H
X-Robots-Tag:noindex
X-PUBLISHED-TTL:PT1H
BEGIN:VTIMEZONE
TZID:Europe/Rome
BEGIN:DAYLIGHT
TZOFFSETFROM:+0100
TZOFFSETTO:+0200
TZNAME:CEST
DTSTART:20240331T010000
END:DAYLIGHT
BEGIN:STANDARD
TZOFFSETFROM:+0200
TZOFFSETTO:+0100
TZNAME:CET
DTSTART:20241027T010000
END:STANDARD
BEGIN:DAYLIGHT
TZOFFSETFROM:+0100
TZOFFSETTO:+0200
TZNAME:CEST
DTSTART:20250330T010000
END:DAYLIGHT
BEGIN:STANDARD
TZOFFSETFROM:+0200
TZOFFSETTO:+0100
TZNAME:CET
DTSTART:20251026T010000
END:STANDARD
BEGIN:DAYLIGHT
TZOFFSETFROM:+0100
TZOFFSETTO:+0200
TZNAME:CEST
DTSTART:20260329T010000
END:DAYLIGHT
BEGIN:STANDARD
TZOFFSETFROM:+0200
TZOFFSETTO:+0100
TZNAME:CET
DTSTART:20261025T010000
END:STANDARD
END:VTIMEZONE
BEGIN:VEVENT
DTSTART;TZID=Europe/Rome:20251210T200000
DTEND;TZID=Europe/Rome:20251210T200000
DTSTAMP:20260426T061329
CREATED:20250828T083935Z
LAST-MODIFIED:20250828T083937Z
UID:6866-1765396800-1765396800@idml.torinosusa.it
SUMMARY:Sacra Scrittura
DESCRIPTION:Docente Laura Verrani
URL:https://idml.torinosusa.it/event/sacra-scrittura-8/
LOCATION:Parrocchia San Leonardo Murialdo\, Via Francesco De Sanctis\, 28\, Torino\, TO\, 10142\, Italy
CATEGORIES:Corso
ORGANIZER;CN="IDML":MAILTO:idml@ltorinosusa.it
END:VEVENT
BEGIN:VEVENT
DTSTART;TZID=Europe/Rome:20251203T200000
DTEND;TZID=Europe/Rome:20251203T200000
DTSTAMP:20260426T061329
CREATED:20250828T083935Z
LAST-MODIFIED:20250828T083937Z
UID:6865-1764792000-1764792000@idml.torinosusa.it
SUMMARY:Sacra Scrittura
DESCRIPTION:Docente Laura Verrani
URL:https://idml.torinosusa.it/event/sacra-scrittura-7/
LOCATION:Parrocchia San Leonardo Murialdo\, Via Francesco De Sanctis\, 28\, Torino\, TO\, 10142\, Italy
CATEGORIES:Corso
ORGANIZER;CN="IDML":MAILTO:idml@ltorinosusa.it
END:VEVENT
BEGIN:VEVENT
DTSTART;TZID=Europe/Rome:20251126T200000
DTEND;TZID=Europe/Rome:20251126T200000
DTSTAMP:20260426T061329
CREATED:20250828T083934Z
LAST-MODIFIED:20250828T083937Z
UID:6864-1764187200-1764187200@idml.torinosusa.it
SUMMARY:Sacra Scrittura
DESCRIPTION:Docente Laura Verrani
URL:https://idml.torinosusa.it/event/sacra-scrittura-6/
LOCATION:Parrocchia San Leonardo Murialdo\, Via Francesco De Sanctis\, 28\, Torino\, TO\, 10142\, Italy
CATEGORIES:Corso
ORGANIZER;CN="IDML":MAILTO:idml@ltorinosusa.it
END:VEVENT
BEGIN:VEVENT
DTSTART;TZID=Europe/Rome:20251119T200000
DTEND;TZID=Europe/Rome:20251119T200000
DTSTAMP:20260426T061329
CREATED:20250828T083934Z
LAST-MODIFIED:20250828T083936Z
UID:6863-1763582400-1763582400@idml.torinosusa.it
SUMMARY:Sacra Scrittura
DESCRIPTION:Docente Laura Verrani
URL:https://idml.torinosusa.it/event/sacra-scrittura-5/
LOCATION:Parrocchia San Leonardo Murialdo\, Via Francesco De Sanctis\, 28\, Torino\, TO\, 10142\, Italy
CATEGORIES:Corso
ORGANIZER;CN="IDML":MAILTO:idml@ltorinosusa.it
END:VEVENT
BEGIN:VEVENT
DTSTART;TZID=Europe/Rome:20251112T200000
DTEND;TZID=Europe/Rome:20251112T200000
DTSTAMP:20260426T061329
CREATED:20250828T083928Z
LAST-MODIFIED:20250828T083928Z
UID:6862-1762977600-1762977600@idml.torinosusa.it
SUMMARY:Sacra Scrittura
DESCRIPTION:Docente Laura Verrani
URL:https://idml.torinosusa.it/event/sacra-scrittura-4/
LOCATION:Parrocchia San Leonardo Murialdo\, Via Francesco De Sanctis\, 28\, Torino\, TO\, 10142\, Italy
CATEGORIES:Corso
ORGANIZER;CN="IDML":MAILTO:idml@ltorinosusa.it
END:VEVENT
BEGIN:VEVENT
DTSTART;TZID=Europe/Rome:20251105T200000
DTEND;TZID=Europe/Rome:20251105T220000
DTSTAMP:20260426T061329
CREATED:20250828T083928Z
LAST-MODIFIED:20251014T211501Z
UID:6861-1762372800-1762380000@idml.torinosusa.it
SUMMARY:Sacra Scrittura
DESCRIPTION:Docente Laura Verrani
URL:https://idml.torinosusa.it/event/sacra-scrittura-3/
LOCATION:Parrocchia San Leonardo Murialdo\, Via Francesco De Sanctis\, 28\, Torino\, TO\, 10142\, Italy
CATEGORIES:Corso
ORGANIZER;CN="IDML":MAILTO:idml@ltorinosusa.it
END:VEVENT
BEGIN:VEVENT
DTSTART;TZID=Europe/Rome:20251029T200000
DTEND;TZID=Europe/Rome:20251029T200000
DTSTAMP:20260426T061329
CREATED:20250828T083928Z
LAST-MODIFIED:20250828T083928Z
UID:6860-1761768000-1761768000@idml.torinosusa.it
SUMMARY:Sacra Scrittura
DESCRIPTION:Docente Laura Verrani
URL:https://idml.torinosusa.it/event/sacra-scrittura-2/
LOCATION:Parrocchia San Leonardo Murialdo\, Via Francesco De Sanctis\, 28\, Torino\, TO\, 10142\, Italy
CATEGORIES:Corso
ORGANIZER;CN="IDML":MAILTO:idml@ltorinosusa.it
END:VEVENT
BEGIN:VEVENT
DTSTART;TZID=Europe/Rome:20251022T200000
DTEND;TZID=Europe/Rome:20251022T200000
DTSTAMP:20260426T061329
CREATED:20250828T083927Z
LAST-MODIFIED:20250828T083927Z
UID:6859-1761163200-1761163200@idml.torinosusa.it
SUMMARY:Sacra Scrittura
DESCRIPTION:Docente Laura Verrani
URL:https://idml.torinosusa.it/event/sacra-scrittura/
LOCATION:Parrocchia San Leonardo Murialdo\, Via Francesco De Sanctis\, 28\, Torino\, TO\, 10142\, Italy
CATEGORIES:Corso
ORGANIZER;CN="IDML":MAILTO:idml@ltorinosusa.it
END:VEVENT
END:VCALENDAR