BEGIN:VCALENDAR
VERSION:2.0
PRODID:-//IDML - ECPv6.15.20//NONSGML v1.0//EN
CALSCALE:GREGORIAN
METHOD:PUBLISH
X-ORIGINAL-URL:https://idml.torinosusa.it
X-WR-CALDESC:Eventi per IDML
REFRESH-INTERVAL;VALUE=DURATION:PT1H
X-Robots-Tag:noindex
X-PUBLISHED-TTL:PT1H
BEGIN:VTIMEZONE
TZID:Europe/Rome
BEGIN:DAYLIGHT
TZOFFSETFROM:+0100
TZOFFSETTO:+0200
TZNAME:CEST
DTSTART:20250330T010000
END:DAYLIGHT
BEGIN:STANDARD
TZOFFSETFROM:+0200
TZOFFSETTO:+0100
TZNAME:CET
DTSTART:20251026T010000
END:STANDARD
BEGIN:DAYLIGHT
TZOFFSETFROM:+0100
TZOFFSETTO:+0200
TZNAME:CEST
DTSTART:20260329T010000
END:DAYLIGHT
BEGIN:STANDARD
TZOFFSETFROM:+0200
TZOFFSETTO:+0100
TZNAME:CET
DTSTART:20261025T010000
END:STANDARD
BEGIN:DAYLIGHT
TZOFFSETFROM:+0100
TZOFFSETTO:+0200
TZNAME:CEST
DTSTART:20270328T010000
END:DAYLIGHT
BEGIN:STANDARD
TZOFFSETFROM:+0200
TZOFFSETTO:+0100
TZNAME:CET
DTSTART:20271031T010000
END:STANDARD
END:VTIMEZONE
BEGIN:VEVENT
DTSTART;TZID=Europe/Rome:20260225T200000
DTEND;TZID=Europe/Rome:20260225T220000
DTSTAMP:20260426T014109
CREATED:20251016T150324Z
LAST-MODIFIED:20251016T150324Z
UID:7131-1772049600-1772056800@idml.torinosusa.it
SUMMARY:Celebrare la Pasqua. Il Sabato Santo e la Veglia pasquale (prima parte)
DESCRIPTION:
URL:https://idml.torinosusa.it/event/celebrare-la-pasqua-il-sabato-santo-e-la-veglia-pasquale-prima-parte/
CATEGORIES:Liturgia
ORGANIZER;CN="IDML":MAILTO:idml@ltorinosusa.it
END:VEVENT
BEGIN:VEVENT
DTSTART;TZID=Europe/Rome:20260304T200000
DTEND;TZID=Europe/Rome:20260304T220000
DTSTAMP:20260426T014109
CREATED:20251016T150324Z
LAST-MODIFIED:20251016T150324Z
UID:7132-1772654400-1772661600@idml.torinosusa.it
SUMMARY:Celebrare la Pasqua. Il Sabato Santo e la Veglia pasquale (prima parte)
DESCRIPTION:
URL:https://idml.torinosusa.it/event/celebrare-la-pasqua-il-sabato-santo-e-la-veglia-pasquale-prima-parte-2/
CATEGORIES:Liturgia
ORGANIZER;CN="IDML":MAILTO:idml@ltorinosusa.it
END:VEVENT
BEGIN:VEVENT
DTSTART;TZID=Europe/Rome:20260311T200000
DTEND;TZID=Europe/Rome:20260311T220000
DTSTAMP:20260426T014109
CREATED:20251016T150333Z
LAST-MODIFIED:20251016T150333Z
UID:7133-1773259200-1773266400@idml.torinosusa.it
SUMMARY:Celebrare la Pasqua. Il Sabato Santo e la Veglia pasquale (prima parte)
DESCRIPTION:
URL:https://idml.torinosusa.it/event/celebrare-la-pasqua-il-sabato-santo-e-la-veglia-pasquale-prima-parte-3/
CATEGORIES:Liturgia
ORGANIZER;CN="IDML":MAILTO:idml@ltorinosusa.it
END:VEVENT
BEGIN:VEVENT
DTSTART;TZID=Europe/Rome:20260415T200000
DTEND;TZID=Europe/Rome:20260415T200000
DTSTAMP:20260426T014109
CREATED:20251016T145915Z
LAST-MODIFIED:20251016T145915Z
UID:7104-1776283200-1776283200@idml.torinosusa.it
SUMMARY:Preparare e guidare una Veglia per i defunti
DESCRIPTION:
URL:https://idml.torinosusa.it/event/preparare-e-guidare-una-veglia-per-i-defunti/
CATEGORIES:Liturgia
ORGANIZER;CN="IDML":MAILTO:idml@ltorinosusa.it
END:VEVENT
BEGIN:VEVENT
DTSTART;VALUE=DATE:20260422
DTEND;VALUE=DATE:20260423
DTSTAMP:20260426T014109
CREATED:20251016T145916Z
LAST-MODIFIED:20251016T145916Z
UID:7105-1776816000-1776902399@idml.torinosusa.it
SUMMARY:Preparare e guidare una Veglia per i defunti
DESCRIPTION:
URL:https://idml.torinosusa.it/event/preparare-e-guidare-una-veglia-per-i-defunti-2/
CATEGORIES:Liturgia
ORGANIZER;CN="IDML":MAILTO:idml@ltorinosusa.it
END:VEVENT
BEGIN:VEVENT
DTSTART;VALUE=DATE:20260429
DTEND;VALUE=DATE:20260430
DTSTAMP:20260426T014109
CREATED:20251016T145916Z
LAST-MODIFIED:20251016T145916Z
UID:7106-1777420800-1777507199@idml.torinosusa.it
SUMMARY:Preparare e guidare una Veglia per i defunti
DESCRIPTION:
URL:https://idml.torinosusa.it/event/preparare-e-guidare-una-veglia-per-i-defunti-3/
CATEGORIES:Liturgia
ORGANIZER;CN="IDML":MAILTO:idml@ltorinosusa.it
END:VEVENT
BEGIN:VEVENT
DTSTART;VALUE=DATE:20260506
DTEND;VALUE=DATE:20260507
DTSTAMP:20260426T014109
CREATED:20251016T145916Z
LAST-MODIFIED:20251016T145916Z
UID:7107-1778025600-1778111999@idml.torinosusa.it
SUMMARY:Preparare e guidare una Veglia per i defunti
DESCRIPTION:
URL:https://idml.torinosusa.it/event/preparare-e-guidare-una-veglia-per-i-defunti-4/
CATEGORIES:Liturgia
ORGANIZER;CN="IDML":MAILTO:idml@ltorinosusa.it
END:VEVENT
BEGIN:VEVENT
DTSTART;TZID=Europe/Rome:20260513T200000
DTEND;TZID=Europe/Rome:20260513T200000
DTSTAMP:20260426T014109
CREATED:20251016T145930Z
LAST-MODIFIED:20251016T145930Z
UID:7108-1778702400-1778702400@idml.torinosusa.it
SUMMARY:Preparare e guidare una Veglia per i defunti
DESCRIPTION:
URL:https://idml.torinosusa.it/event/preparare-e-guidare-una-veglia-per-i-defunti-5/
CATEGORIES:Liturgia
ORGANIZER;CN="IDML":MAILTO:idml@ltorinosusa.it
END:VEVENT
END:VCALENDAR