BEGIN:VCALENDAR
VERSION:2.0
PRODID:-//IDML - ECPv6.15.20//NONSGML v1.0//EN
CALSCALE:GREGORIAN
METHOD:PUBLISH
X-ORIGINAL-URL:https://idml.torinosusa.it
X-WR-CALDESC:Eventi per IDML
REFRESH-INTERVAL;VALUE=DURATION:PT1H
X-Robots-Tag:noindex
X-PUBLISHED-TTL:PT1H
BEGIN:VTIMEZONE
TZID:Europe/Rome
BEGIN:DAYLIGHT
TZOFFSETFROM:+0100
TZOFFSETTO:+0200
TZNAME:CEST
DTSTART:20250330T010000
END:DAYLIGHT
BEGIN:STANDARD
TZOFFSETFROM:+0200
TZOFFSETTO:+0100
TZNAME:CET
DTSTART:20251026T010000
END:STANDARD
BEGIN:DAYLIGHT
TZOFFSETFROM:+0100
TZOFFSETTO:+0200
TZNAME:CEST
DTSTART:20260329T010000
END:DAYLIGHT
BEGIN:STANDARD
TZOFFSETFROM:+0200
TZOFFSETTO:+0100
TZNAME:CET
DTSTART:20261025T010000
END:STANDARD
BEGIN:DAYLIGHT
TZOFFSETFROM:+0100
TZOFFSETTO:+0200
TZNAME:CEST
DTSTART:20270328T010000
END:DAYLIGHT
BEGIN:STANDARD
TZOFFSETFROM:+0200
TZOFFSETTO:+0100
TZNAME:CET
DTSTART:20271031T010000
END:STANDARD
END:VTIMEZONE
BEGIN:VEVENT
DTSTART;TZID=Europe/Rome:20260211T200000
DTEND;TZID=Europe/Rome:20260211T200000
DTSTAMP:20260426T033519
CREATED:20251015T161539Z
LAST-MODIFIED:20251015T161539Z
UID:7076-1770840000-1770840000@idml.torinosusa.it
SUMMARY:Proclamare la Parola – Corso base
DESCRIPTION:
URL:https://idml.torinosusa.it/event/proclamare-la-parola-corso-base-6/
CATEGORIES:Lettori
ORGANIZER;CN="IDML":MAILTO:idml@ltorinosusa.it
END:VEVENT
BEGIN:VEVENT
DTSTART;TZID=Europe/Rome:20260211T200000
DTEND;TZID=Europe/Rome:20260211T200000
DTSTAMP:20260426T033519
CREATED:20251015T161609Z
LAST-MODIFIED:20251015T161609Z
UID:7084-1770840000-1770840000@idml.torinosusa.it
SUMMARY:Proclamare la Parola – Corso avanzato
DESCRIPTION:
URL:https://idml.torinosusa.it/event/proclamare-la-parola-corso-avanzato-6/
CATEGORIES:Lettori
ORGANIZER;CN="IDML":MAILTO:idml@ltorinosusa.it
END:VEVENT
BEGIN:VEVENT
DTSTART;TZID=Europe/Rome:20260318T200000
DTEND;TZID=Europe/Rome:20260318T220000
DTSTAMP:20260426T033519
CREATED:20251015T161539Z
LAST-MODIFIED:20251015T161539Z
UID:7077-1773864000-1773871200@idml.torinosusa.it
SUMMARY:Proclamare la Parola – Corso base
DESCRIPTION:
URL:https://idml.torinosusa.it/event/proclamare-la-parola-corso-base-7/
CATEGORIES:Lettori
ORGANIZER;CN="IDML":MAILTO:idml@ltorinosusa.it
END:VEVENT
BEGIN:VEVENT
DTSTART;TZID=Europe/Rome:20260318T200000
DTEND;TZID=Europe/Rome:20260318T220000
DTSTAMP:20260426T033519
CREATED:20251015T161609Z
LAST-MODIFIED:20251015T161609Z
UID:7085-1773864000-1773871200@idml.torinosusa.it
SUMMARY:Proclamare la Parola – Corso avanzato
DESCRIPTION:
URL:https://idml.torinosusa.it/event/proclamare-la-parola-corso-avanzato-7/
CATEGORIES:Lettori
ORGANIZER;CN="IDML":MAILTO:idml@ltorinosusa.it
END:VEVENT
BEGIN:VEVENT
DTSTART;TZID=Europe/Rome:20260325T200000
DTEND;TZID=Europe/Rome:20260325T220000
DTSTAMP:20260426T033519
CREATED:20251015T161553Z
LAST-MODIFIED:20251016T153108Z
UID:7078-1774468800-1774476000@idml.torinosusa.it
SUMMARY:Proclamare la Parola – Corso base
DESCRIPTION:
URL:https://idml.torinosusa.it/event/proclamare-la-parola-corso-base-8/
CATEGORIES:Lettori
ORGANIZER;CN="IDML":MAILTO:idml@ltorinosusa.it
END:VEVENT
BEGIN:VEVENT
DTSTART;TZID=Europe/Rome:20260325T200000
DTEND;TZID=Europe/Rome:20260325T220000
DTSTAMP:20260426T033519
CREATED:20251015T161609Z
LAST-MODIFIED:20251016T152956Z
UID:7086-1774468800-1774476000@idml.torinosusa.it
SUMMARY:Proclamare la Parola – Corso avanzato
DESCRIPTION:
URL:https://idml.torinosusa.it/event/proclamare-la-parola-corso-avanzato-8/
CATEGORIES:Lettori
ORGANIZER;CN="IDML":MAILTO:idml@ltorinosusa.it
END:VEVENT
BEGIN:VEVENT
DTSTART;TZID=Europe/Rome:20260415T200000
DTEND;TZID=Europe/Rome:20260415T220000
DTSTAMP:20260426T033519
CREATED:20251016T145946Z
LAST-MODIFIED:20251016T145946Z
UID:7115-1776283200-1776290400@idml.torinosusa.it
SUMMARY:Laboratorio di pratica di lettura
DESCRIPTION:
URL:https://idml.torinosusa.it/event/laboratorio-di-pratica-di-lettura/
CATEGORIES:Lettori
ORGANIZER;CN="IDML":MAILTO:idml@ltorinosusa.it
END:VEVENT
BEGIN:VEVENT
DTSTART;TZID=Europe/Rome:20260422T200000
DTEND;TZID=Europe/Rome:20260422T220000
DTSTAMP:20260426T033519
CREATED:20251016T145946Z
LAST-MODIFIED:20251016T145946Z
UID:7116-1776888000-1776895200@idml.torinosusa.it
SUMMARY:Laboratorio di pratica di lettura
DESCRIPTION:
URL:https://idml.torinosusa.it/event/laboratorio-di-pratica-di-lettura-2/
CATEGORIES:Lettori
ORGANIZER;CN="IDML":MAILTO:idml@ltorinosusa.it
END:VEVENT
BEGIN:VEVENT
DTSTART;TZID=Europe/Rome:20260429T200000
DTEND;TZID=Europe/Rome:20260429T220000
DTSTAMP:20260426T033519
CREATED:20251016T145946Z
LAST-MODIFIED:20251016T145946Z
UID:7117-1777492800-1777500000@idml.torinosusa.it
SUMMARY:Laboratorio di pratica di lettura
DESCRIPTION:
URL:https://idml.torinosusa.it/event/laboratorio-di-pratica-di-lettura-3/
CATEGORIES:Lettori
ORGANIZER;CN="IDML":MAILTO:idml@ltorinosusa.it
END:VEVENT
BEGIN:VEVENT
DTSTART;TZID=Europe/Rome:20260506T200000
DTEND;TZID=Europe/Rome:20260506T220000
DTSTAMP:20260426T033519
CREATED:20251016T145949Z
LAST-MODIFIED:20251016T145949Z
UID:7118-1778097600-1778104800@idml.torinosusa.it
SUMMARY:Laboratorio di pratica di lettura
DESCRIPTION:
URL:https://idml.torinosusa.it/event/laboratorio-di-pratica-di-lettura-4/
CATEGORIES:Lettori
ORGANIZER;CN="IDML":MAILTO:idml@ltorinosusa.it
END:VEVENT
BEGIN:VEVENT
DTSTART;TZID=Europe/Rome:20260513T200000
DTEND;TZID=Europe/Rome:20260513T220000
DTSTAMP:20260426T033519
CREATED:20251016T145949Z
LAST-MODIFIED:20251016T145949Z
UID:7119-1778702400-1778709600@idml.torinosusa.it
SUMMARY:Laboratorio di pratica di lettura
DESCRIPTION:
URL:https://idml.torinosusa.it/event/laboratorio-di-pratica-di-lettura-5/
CATEGORIES:Lettori
ORGANIZER;CN="IDML":MAILTO:idml@ltorinosusa.it
END:VEVENT
BEGIN:VEVENT
DTSTART;TZID=Europe/Rome:20260520T200000
DTEND;TZID=Europe/Rome:20260520T220000
DTSTAMP:20260426T033519
CREATED:20251016T145950Z
LAST-MODIFIED:20251016T145950Z
UID:7120-1779307200-1779314400@idml.torinosusa.it
SUMMARY:Laboratorio di pratica di lettura
DESCRIPTION:
URL:https://idml.torinosusa.it/event/laboratorio-di-pratica-di-lettura-6/
CATEGORIES:Lettori
ORGANIZER;CN="IDML":MAILTO:idml@ltorinosusa.it
END:VEVENT
END:VCALENDAR