BEGIN:VCALENDAR
VERSION:2.0
PRODID:-//IDML - ECPv6.15.20//NONSGML v1.0//EN
CALSCALE:GREGORIAN
METHOD:PUBLISH
X-ORIGINAL-URL:https://idml.torinosusa.it
X-WR-CALDESC:Eventi per IDML
REFRESH-INTERVAL;VALUE=DURATION:PT1H
X-Robots-Tag:noindex
X-PUBLISHED-TTL:PT1H
BEGIN:VTIMEZONE
TZID:Europe/Rome
BEGIN:DAYLIGHT
TZOFFSETFROM:+0100
TZOFFSETTO:+0200
TZNAME:CEST
DTSTART:20240331T010000
END:DAYLIGHT
BEGIN:STANDARD
TZOFFSETFROM:+0200
TZOFFSETTO:+0100
TZNAME:CET
DTSTART:20241027T010000
END:STANDARD
BEGIN:DAYLIGHT
TZOFFSETFROM:+0100
TZOFFSETTO:+0200
TZNAME:CEST
DTSTART:20250330T010000
END:DAYLIGHT
BEGIN:STANDARD
TZOFFSETFROM:+0200
TZOFFSETTO:+0100
TZNAME:CET
DTSTART:20251026T010000
END:STANDARD
BEGIN:DAYLIGHT
TZOFFSETFROM:+0100
TZOFFSETTO:+0200
TZNAME:CEST
DTSTART:20260329T010000
END:DAYLIGHT
BEGIN:STANDARD
TZOFFSETFROM:+0200
TZOFFSETTO:+0100
TZNAME:CET
DTSTART:20261025T010000
END:STANDARD
BEGIN:DAYLIGHT
TZOFFSETFROM:+0100
TZOFFSETTO:+0200
TZNAME:CEST
DTSTART:20270328T010000
END:DAYLIGHT
BEGIN:STANDARD
TZOFFSETFROM:+0200
TZOFFSETTO:+0100
TZNAME:CET
DTSTART:20271031T010000
END:STANDARD
END:VTIMEZONE
BEGIN:VEVENT
DTSTART;TZID=Europe/Rome:20260422T200000
DTEND;TZID=Europe/Rome:20260422T220000
DTSTAMP:20260425T220530
CREATED:20251016T150313Z
LAST-MODIFIED:20251016T150313Z
UID:7125-1776888000-1776895200@idml.torinosusa.it
SUMMARY:Tra Babele e Gerusalemme: la città luogo di conflitto e fraternità
DESCRIPTION:
URL:https://idml.torinosusa.it/event/tra-babele-e-gerusalemme-la-citta-luogo-di-conflitto-e-fraternita/
CATEGORIES:Bibbia
ORGANIZER;CN="IDML":MAILTO:idml@ltorinosusa.it
END:VEVENT
BEGIN:VEVENT
DTSTART;TZID=Europe/Rome:20251203T200000
DTEND;TZID=Europe/Rome:20251203T220000
DTSTAMP:20260425T220530
CREATED:20251014T210639Z
LAST-MODIFIED:20251014T210639Z
UID:7045-1764792000-1764799200@idml.torinosusa.it
SUMMARY:Bibbia e Generi letterari
DESCRIPTION:
URL:https://idml.torinosusa.it/event/bibbia-e-generi-letterari-5/
CATEGORIES:Bibbia
ORGANIZER;CN="IDML":MAILTO:idml@ltorinosusa.it
END:VEVENT
BEGIN:VEVENT
DTSTART;VALUE=DATE:20251119
DTEND;VALUE=DATE:20251120
DTSTAMP:20260425T220530
CREATED:20251014T210639Z
LAST-MODIFIED:20251014T211351Z
UID:7044-1763510400-1763596799@idml.torinosusa.it
SUMMARY:Bibbia e Generi letterari
DESCRIPTION:
URL:https://idml.torinosusa.it/event/bibbia-e-generi-letterari-4/
CATEGORIES:Bibbia
ORGANIZER;CN="IDML":MAILTO:idml@ltorinosusa.it
END:VEVENT
BEGIN:VEVENT
DTSTART;VALUE=DATE:20251112
DTEND;VALUE=DATE:20251113
DTSTAMP:20260425T220530
CREATED:20251014T210639Z
LAST-MODIFIED:20251014T211331Z
UID:7043-1762905600-1762991999@idml.torinosusa.it
SUMMARY:Bibbia e Generi letterari
DESCRIPTION:
URL:https://idml.torinosusa.it/event/bibbia-e-generi-letterari-3/
CATEGORIES:Bibbia
ORGANIZER;CN="IDML":MAILTO:idml@ltorinosusa.it
END:VEVENT
BEGIN:VEVENT
DTSTART;VALUE=DATE:20251105
DTEND;VALUE=DATE:20251106
DTSTAMP:20260425T220530
CREATED:20251014T210625Z
LAST-MODIFIED:20251014T211300Z
UID:7042-1762300800-1762387199@idml.torinosusa.it
SUMMARY:Bibbia e Generi letterari
DESCRIPTION:
URL:https://idml.torinosusa.it/event/bibbia-e-generi-letterari-2/
CATEGORIES:Bibbia
ORGANIZER;CN="IDML":MAILTO:idml@ltorinosusa.it
END:VEVENT
BEGIN:VEVENT
DTSTART;TZID=Europe/Rome:20251029T200000
DTEND;TZID=Europe/Rome:20251029T220000
DTSTAMP:20260425T220530
CREATED:20251014T210624Z
LAST-MODIFIED:20251014T210624Z
UID:7041-1761768000-1761775200@idml.torinosusa.it
SUMMARY:Bibbia e Generi letterari
DESCRIPTION:
URL:https://idml.torinosusa.it/event/bibbia-e-generi-letterari/
CATEGORIES:Bibbia
ORGANIZER;CN="IDML":MAILTO:idml@ltorinosusa.it
END:VEVENT
END:VCALENDAR